BEGIN:VCALENDAR
PRODID:-//Ahmadiyya Movement in Islam//ISLAMEVENTS.CA//EN
VERSION:2.0
METHOD:PUBLISH
BEGIN:VEVENT
DTSTART:20070303T233000
DTEND:20070303T234500
DTSTAMP:20070303T233000
TRANSP:OPAQUE
SEQUENCE:0
UID:no-reply@islamevents.ca
URL:http://www.islamevents.ca/weston/is-religion-dead/20070221233510635
DESCRIPTION:Event Details\: http://www.islamevents.ca/weston/is-religion-dead/20070221233510635
LOCATION:Weston - Islington, Ontario\, \, Weston\, ON\, 
SUMMARY:Is religion dead? (islamevents.ca)
PRIORITY:5
CLASS:PUBLIC
STATUS:CONFIRMED
BEGIN:VALARM
TRIGGER:-PT1440M
ACTION:DISPLAY
DESCRIPTION:Reminder
END:VALARM
END:VEVENT
END:VCALENDAR
