BEGIN:VCALENDAR
PRODID:-//Ahmadiyya Movement in Islam//ISLAMEVENTS.CA//EN
VERSION:2.0
METHOD:PUBLISH
BEGIN:VEVENT
DTSTART:20070322T190000
DTEND:20070322T210000
DTSTAMP:20070322T190000
TRANSP:OPAQUE
SEQUENCE:0
UID:no-reply@islamevents.ca
URL:http://www.islamevents.ca/durham/drug-and-alcohol-abuse/20070221234117792
DESCRIPTION:Event Details\: http://www.islamevents.ca/durham/drug-and-alcohol-abuse/20070221234117792
LOCATION:Durham, Ontario\, \, Durham\, ON\, 
SUMMARY:Drug and Alcohol abuse (islamevents.ca)
PRIORITY:5
CLASS:PUBLIC
STATUS:CONFIRMED
BEGIN:VALARM
TRIGGER:-PT1440M
ACTION:DISPLAY
DESCRIPTION:Reminder
END:VALARM
END:VEVENT
END:VCALENDAR
