BEGIN:VCALENDAR
PRODID:-//Ahmadiyya Movement in Islam//ISLAMEVENTS.CA//EN
VERSION:2.0
METHOD:PUBLISH
BEGIN:VEVENT
DTSTART:20070305T180000
DTEND:20070305T223000
DTSTAMP:20070305T180000
TRANSP:OPAQUE
SEQUENCE:0
UID:no-reply@islamevents.ca
URL:http://www.islamevents.ca/winnepeg/wrc-2007-why-i-believe-in-my-faith/20070223022244568
DESCRIPTION:Event Details\: http://www.islamevents.ca/winnepeg/wrc-2007-why-i-believe-in-my-faith/20070223022244568
LOCATION:University of Winnipeg, Manitoba\, Main Theatre - Hall 200\, Winnepeg\, MB\, R3B2E9
SUMMARY:WRC 2007:Why I believe in  my faith? (islamevents.ca)
PRIORITY:5
CLASS:PUBLIC
STATUS:CONFIRMED
BEGIN:VALARM
TRIGGER:-PT1440M
ACTION:DISPLAY
DESCRIPTION:Reminder
END:VALARM
END:VEVENT
END:VCALENDAR
