BEGIN:VCALENDAR
PRODID:-//Ahmadiyya Movement in Islam//ISLAMEVENTS.CA//EN
VERSION:2.0
METHOD:PUBLISH
BEGIN:VEVENT
DTSTART:20070417T190000
DTEND:20070417T210000
DTSTAMP:20070417T190000
TRANSP:OPAQUE
SEQUENCE:0
UID:no-reply@islamevents.ca
URL:http://www.islamevents.ca/clarington/human-rights-and-religion/20070317011900538
DESCRIPTION:Event Details\: http://www.islamevents.ca/clarington/human-rights-and-religion/20070317011900538
LOCATION:Clarington\, \, Clarington\, ON\, 
SUMMARY:Human Rights and Religion (islamevents.ca)
PRIORITY:5
CLASS:PUBLIC
STATUS:CONFIRMED
BEGIN:VALARM
TRIGGER:-PT1440M
ACTION:DISPLAY
DESCRIPTION:Reminder
END:VALARM
END:VEVENT
END:VCALENDAR
