BEGIN:VCALENDAR
PRODID:-//Ahmadiyya Movement in Islam//ISLAMEVENTS.CA//EN
VERSION:2.0
METHOD:PUBLISH
BEGIN:VEVENT
DTSTART:20070401T153000
DTEND:20070401T180000
DTSTAMP:20070401T153000
TRANSP:OPAQUE
SEQUENCE:0
UID:no-reply@islamevents.ca
URL:http://www.islamevents.ca/orleans/is-jihad-a-holy-war-also--finding-common-ground-among-peoples-of-the-book/20070328165740312
DESCRIPTION:Event Details\: http://www.islamevents.ca/orleans/is-jihad-a-holy-war-also--finding-common-ground-among-peoples-of-the-book/20070328165740312
LOCATION:United Church\, \, Orleans\, ON\, 
SUMMARY:Is Jihad a Holy War?  Also:  Finding Common Ground Among Peoples of the Book (islamevents.ca)
PRIORITY:5
CLASS:PUBLIC
STATUS:CONFIRMED
BEGIN:VALARM
TRIGGER:-PT1440M
ACTION:DISPLAY
DESCRIPTION:Reminder
END:VALARM
END:VEVENT
END:VCALENDAR
