BEGIN:VCALENDAR
PRODID:-//Ahmadiyya Movement in Islam//ISLAMEVENTS.CA//EN
VERSION:2.0
METHOD:PUBLISH
BEGIN:VEVENT
DTSTART:20070421T170000
DTEND:20070421T190000
DTSTAMP:20070421T170000
TRANSP:OPAQUE
SEQUENCE:0
UID:no-reply@islamevents.ca
URL:http://www.islamevents.ca/weston/tomb-of-jesus/20070331114942432
DESCRIPTION:Event Details\: http://www.islamevents.ca/weston/tomb-of-jesus/20070331114942432
LOCATION:Weston\, \, Weston\, ON\, 
SUMMARY:Tomb of Jesus (islamevents.ca)
PRIORITY:5
CLASS:PUBLIC
STATUS:CONFIRMED
BEGIN:VALARM
TRIGGER:-PT1440M
ACTION:DISPLAY
DESCRIPTION:Reminder
END:VALARM
END:VEVENT
END:VCALENDAR
