BEGIN:VCALENDAR
PRODID:-//Ahmadiyya Movement in Islam//ISLAMEVENTS.CA//EN
VERSION:2.0
METHOD:PUBLISH
BEGIN:VEVENT
DTSTART:20070529T193000
DTEND:20070529T213000
DTSTAMP:20070529T193000
TRANSP:OPAQUE
SEQUENCE:0
UID:no-reply@islamevents.ca
URL:http://www.islamevents.ca/kezwick/religion-and-environment/20070503123836449
DESCRIPTION:Event Details\: http://www.islamevents.ca/kezwick/religion-and-environment/20070503123836449
LOCATION:Keswick\, \, Kezwick\, ON\, 
SUMMARY:Religion & Environment (islamevents.ca)
PRIORITY:5
CLASS:PUBLIC
STATUS:CONFIRMED
BEGIN:VALARM
TRIGGER:-PT1440M
ACTION:DISPLAY
DESCRIPTION:Reminder
END:VALARM
END:VEVENT
END:VCALENDAR
