BEGIN:VCALENDAR
PRODID:-//Ahmadiyya Movement in Islam//ISLAMEVENTS.CA//EN
VERSION:2.0
METHOD:PUBLISH
BEGIN:VEVENT
DTSTART:20070518T190000
DTEND:20070518T210000
DTSTAMP:20070518T190000
TRANSP:OPAQUE
SEQUENCE:0
UID:no-reply@islamevents.ca
URL:http://www.islamevents.ca/golden/the-purpose-of-life/20070527171343693
DESCRIPTION:Event Details\: http://www.islamevents.ca/golden/the-purpose-of-life/20070527171343693
LOCATION:Rec Plex Community Centre, Golden, BC\, \, Golden\, BC\, 
SUMMARY:The purpose of life (islamevents.ca)
PRIORITY:5
CLASS:PUBLIC
STATUS:CONFIRMED
BEGIN:VALARM
TRIGGER:-PT1440M
ACTION:DISPLAY
DESCRIPTION:Reminder
END:VALARM
END:VEVENT
END:VCALENDAR
