BEGIN:VCALENDAR
PRODID:-//Ahmadiyya Movement in Islam//ISLAMEVENTS.CA//EN
VERSION:2.0
METHOD:PUBLISH
BEGIN:VEVENT
DTSTART:20070822T183000
DTEND:20070822T190000
DTSTAMP:20070822T183000
TRANSP:OPAQUE
SEQUENCE:0
UID:no-reply@islamevents.ca
URL:http://www.islamevents.ca/beamsville/peace-of-mind/20070820121824630
DESCRIPTION:Event Details\: http://www.islamevents.ca/beamsville/peace-of-mind/20070820121824630
LOCATION:Lincoln Center\, 1436 Central Avenue\, Beamsville\, ON\, 
SUMMARY:Peace of Mind (islamevents.ca)
PRIORITY:5
CLASS:PUBLIC
STATUS:CONFIRMED
BEGIN:VALARM
TRIGGER:-PT1440M
ACTION:DISPLAY
DESCRIPTION:Reminder
END:VALARM
END:VEVENT
END:VCALENDAR
